BEGIN:VCALENDAR
VERSION:2.0
PRODID:-//EuropaSchule San Pedro Sula - ECPv6.15.9//NONSGML v1.0//EN
CALSCALE:GREGORIAN
METHOD:PUBLISH
X-WR-CALNAME:EuropaSchule San Pedro Sula
X-ORIGINAL-URL:https://europaschule.eu
X-WR-CALDESC:Eventos para EuropaSchule San Pedro Sula
REFRESH-INTERVAL;VALUE=DURATION:PT1H
X-Robots-Tag:noindex
X-PUBLISHED-TTL:PT1H
BEGIN:VTIMEZONE
TZID:America/Chicago
BEGIN:DAYLIGHT
TZOFFSETFROM:-0600
TZOFFSETTO:-0500
TZNAME:CDT
DTSTART:20230312T080000
END:DAYLIGHT
BEGIN:STANDARD
TZOFFSETFROM:-0500
TZOFFSETTO:-0600
TZNAME:CST
DTSTART:20231105T070000
END:STANDARD
BEGIN:DAYLIGHT
TZOFFSETFROM:-0600
TZOFFSETTO:-0500
TZNAME:CDT
DTSTART:20240310T080000
END:DAYLIGHT
BEGIN:STANDARD
TZOFFSETFROM:-0500
TZOFFSETTO:-0600
TZNAME:CST
DTSTART:20241103T070000
END:STANDARD
BEGIN:DAYLIGHT
TZOFFSETFROM:-0600
TZOFFSETTO:-0500
TZNAME:CDT
DTSTART:20250309T080000
END:DAYLIGHT
BEGIN:STANDARD
TZOFFSETFROM:-0500
TZOFFSETTO:-0600
TZNAME:CST
DTSTART:20251102T070000
END:STANDARD
END:VTIMEZONE
BEGIN:VEVENT
DTSTART;TZID=America/Chicago:20240805T000000
DTEND;TZID=America/Chicago:20240809T000000
DTSTAMP:20260424T130329
CREATED:20241104T190042Z
LAST-MODIFIED:20241104T190441Z
UID:1627-1722816000-1723161600@europaschule.eu
SUMMARY:Inducción Docente
DESCRIPTION:
URL:https://europaschule.eu/event/induccion-docente-3/
END:VEVENT
BEGIN:VEVENT
DTSTART;TZID=America/Chicago:20240810T000000
DTEND;TZID=America/Chicago:20240810T000000
DTSTAMP:20260424T130329
CREATED:20241104T190043Z
LAST-MODIFIED:20241104T190441Z
UID:1630-1723248000-1723248000@europaschule.eu
SUMMARY:Día del Niño
DESCRIPTION:
URL:https://europaschule.eu/event/dia-del-nino-3/
END:VEVENT
BEGIN:VEVENT
DTSTART;TZID=America/Chicago:20240812T000000
DTEND;TZID=America/Chicago:20240812T000000
DTSTAMP:20260424T130329
CREATED:20241104T190042Z
LAST-MODIFIED:20241104T190441Z
UID:1628-1723420800-1723420800@europaschule.eu
SUMMARY:Primer Día de Clases
DESCRIPTION:
URL:https://europaschule.eu/event/primer-dia-de-clases-3/
END:VEVENT
BEGIN:VEVENT
DTSTART;TZID=America/Chicago:20240812T000000
DTEND;TZID=America/Chicago:20240816T000000
DTSTAMP:20260424T130329
CREATED:20241104T190043Z
LAST-MODIFIED:20241104T190441Z
UID:1629-1723420800-1723766400@europaschule.eu
SUMMARY:Semana Diagnóstica
DESCRIPTION:
URL:https://europaschule.eu/event/semana-diagnostica-3/
END:VEVENT
BEGIN:VEVENT
DTSTART;TZID=America/Chicago:20240813T000000
DTEND;TZID=America/Chicago:20240813T000000
DTSTAMP:20260424T130329
CREATED:20241104T190043Z
LAST-MODIFIED:20241104T190441Z
UID:1631-1723507200-1723507200@europaschule.eu
SUMMARY:Fiestas Patrias
DESCRIPTION:
URL:https://europaschule.eu/event/fiestas-patrias-2/
END:VEVENT
END:VCALENDAR