BEGIN:VCALENDAR
VERSION:2.0
PRODID:-//EuropaSchule San Pedro Sula - ECPv6.15.9//NONSGML v1.0//EN
CALSCALE:GREGORIAN
METHOD:PUBLISH
X-WR-CALNAME:EuropaSchule San Pedro Sula
X-ORIGINAL-URL:https://europaschule.eu
X-WR-CALDESC:Eventos para EuropaSchule San Pedro Sula
REFRESH-INTERVAL;VALUE=DURATION:PT1H
X-Robots-Tag:noindex
X-PUBLISHED-TTL:PT1H
BEGIN:VTIMEZONE
TZID:America/Chicago
BEGIN:DAYLIGHT
TZOFFSETFROM:-0600
TZOFFSETTO:-0500
TZNAME:CDT
DTSTART:20230312T080000
END:DAYLIGHT
BEGIN:STANDARD
TZOFFSETFROM:-0500
TZOFFSETTO:-0600
TZNAME:CST
DTSTART:20231105T070000
END:STANDARD
BEGIN:DAYLIGHT
TZOFFSETFROM:-0600
TZOFFSETTO:-0500
TZNAME:CDT
DTSTART:20240310T080000
END:DAYLIGHT
BEGIN:STANDARD
TZOFFSETFROM:-0500
TZOFFSETTO:-0600
TZNAME:CST
DTSTART:20241103T070000
END:STANDARD
BEGIN:DAYLIGHT
TZOFFSETFROM:-0600
TZOFFSETTO:-0500
TZNAME:CDT
DTSTART:20250309T080000
END:DAYLIGHT
BEGIN:STANDARD
TZOFFSETFROM:-0500
TZOFFSETTO:-0600
TZNAME:CST
DTSTART:20251102T070000
END:STANDARD
END:VTIMEZONE
BEGIN:VEVENT
DTSTART;TZID=America/Chicago:20241120T130000
DTEND;TZID=America/Chicago:20241120T170000
DTSTAMP:20260424T095302
CREATED:20241104T190101Z
LAST-MODIFIED:20241104T190458Z
UID:1641-1732107600-1732122000@europaschule.eu
SUMMARY:Entrega de Reportes Prebásica Trimestre I
DESCRIPTION:
URL:https://europaschule.eu/event/entrega-de-reportes-prebasica-trimestre-i-2/
END:VEVENT
END:VCALENDAR